View In:
ArcGIS JavaScript
ArcGIS Online Map Viewer
ArcGIS Earth
ArcGIS Pro
Service Description: Ayres Associates provided digital, 4-band orthoimagery services in 2023 for Mower County, Minnesota. The aerial imagery was collected on March 28th and April 10th using a Microsoft Vexcel UltraCam Eagle M3 sensor mounted in a fixed-wing aircraft. The imagery was collected to support 0.5 foot ground sample distance (GSD) orthoimagery to meet ASPRS Class II horizontal accuracy specifications at 1"=100' map scale. The 6-inch pixel orthoimagery was produced to meet or exceed a horizontal accuracy of 1.4 feet RMSE according to ASPRS Positional Accuracy Standards for Digital Geospatial Data, 2014. Resultant orthoimagery was rectified to a DEM surface created from existing LiDAR data. Orthoimagery was delivered in PLSS section GeoTiff and MrSID tiles and a project wide MrSID mosaic. The orthoimagery was delivered according to a quarter-section tile schematic.<div><br /></div><div>Not to be used for purposes other than those outlined in the 2023-24 MERC orthoimagery partnership program.</div>
Map Name: Imagery 2023
Legend
All Layers and Tables
Dynamic Legend
Dynamic All Layers
Layers:
Description: Ayres Associates provided digital, 4-band orthoimagery services in 2023 for Mower County, Minnesota. The aerial imagery was collected on March 28th and April 10th using a Microsoft Vexcel UltraCam Eagle M3 sensor mounted in a fixed-wing aircraft. The imagery was collected to support 0.5 foot ground sample distance (GSD) orthoimagery to meet ASPRS Class II horizontal accuracy specifications at 1"=100' map scale. The 6-inch pixel orthoimagery was produced to meet or exceed a horizontal accuracy of 1.4 feet RMSE according to ASPRS Positional Accuracy Standards for Digital Geospatial Data, 2014. Resultant orthoimagery was rectified to a DEM surface created from existing LiDAR data. Orthoimagery was delivered in PLSS section GeoTiff and MrSID tiles and a project wide MrSID mosaic. The orthoimagery was delivered according to a quarter-section tile schematic.Not to be used for purposes other than those outlined in the 2023-24 MERC orthoimagery partnership program.
Service Item Id: 39ca5cdae30d4197be4dfb7957c20953
Copyright Text:
Spatial Reference:
102100
(3857)
LatestVCSWkid(0)
Single Fused Map Cache: true
Tile Info:
- Height: 256.0
- Width: 256.0
- DPI: 96.0
-
Levels of Detail: 24
-
Level ID: 1
[ Start Tile, End Tile ]
- Resolution: 78271.5169639999
- Scale: 2.95828763795777E8
-
Level ID: 2
[ Start Tile, End Tile ]
- Resolution: 39135.7584820001
- Scale: 1.47914381897889E8
-
Level ID: 3
[ Start Tile, End Tile ]
- Resolution: 19567.8792409999
- Scale: 7.3957190948944E7
-
Level ID: 4
[ Start Tile, End Tile ]
- Resolution: 9783.93962049996
- Scale: 3.6978595474472E7
-
Level ID: 5
[ Start Tile, End Tile ]
- Resolution: 4891.96981024998
- Scale: 1.8489297737236E7
- Format: Mixed
- Compression Quality: 75.0
- Origin: X: -2.0037508342787E7
Y: 2.0037508342787E7
- Spatial Reference: 102100
(3857)
LatestVCSWkid(0)
Storage Info:
- Storage Format: esriMapCacheStorageModeCompactV2
- Packet Size: 128
Initial Extent:
XMin: -1.0362470677963309E7
YMin: 5438296.243807109
XMax: -1.0349646863920674E7
YMax: 5443247.872300575
Spatial Reference: 102100
(0)
LatestVCSWkid(0)
Full Extent:
XMin: -1.037736004833718E7
YMin: 5378774.431810349
XMax: -1.0277302667783016E7
YMax: 5451877.275143593
Spatial Reference: 102100
(0)
LatestVCSWkid(0)
Units: esriMeters
Supported Image Format Types: PNG32,PNG24,PNG,JPG,DIB,TIFF,EMF,PS,PDF,GIF,SVG,SVGZ,BMP
Document Info:
Title: Map2
Author:
Comments:
Subject:
Category:
Keywords: digital,4-band,orthoimagery,6-inch,Imagery
AntialiasingMode: Fast
TextAntialiasingMode: Force
Supports Dynamic Layers: true
Resampling: false
MaxRecordCount: 2000
MaxSelectionCount: 2000
MaxImageHeight: 4096
MaxImageWidth: 4096
Supported Query Formats: JSON, geoJSON, PBF
Supports Query Data Elements: true
Min Scale: 1155581.108577
Max Scale: 282.124294
Min LOD: 9
Max LOD: 21
Supports Datum Transformation: true
Child Resources:
Info
Dynamic Layer
Supported Operations:
Export Map
Identify
QueryLegends
QueryDomains
Find
Return Updates