{ "currentVersion": 11.5, "cimVersion": "3.5.0", "serviceDescription": "Ayres Associates provided digital, 4-band orthoimagery services in 2023 for Mower County, Minnesota. The aerial imagery was collected on March 28th and April 10th using a Microsoft Vexcel UltraCam Eagle M3 sensor mounted in a fixed-wing aircraft. The imagery was collected to support 0.5 foot ground sample distance (GSD) orthoimagery to meet ASPRS Class II horizontal accuracy specifications at 1"=100' map scale. The 6-inch pixel orthoimagery was produced to meet or exceed a horizontal accuracy of 1.4 feet RMSE according to ASPRS Positional Accuracy Standards for Digital Geospatial Data, 2014. Resultant orthoimagery was rectified to a DEM surface created from existing LiDAR data. Orthoimagery was delivered in PLSS section GeoTiff and MrSID tiles and a project wide MrSID mosaic. The orthoimagery was delivered according to a quarter-section tile schematic.

<\/div>
Not to be used for purposes other than those outlined in the 2023-24 MERC orthoimagery partnership program.<\/div>", "mapName": "Imagery 2023", "description": "Ayres Associates provided digital, 4-band orthoimagery services in 2023 for Mower County, Minnesota. The aerial imagery was collected on March 28th and April 10th using a Microsoft Vexcel UltraCam Eagle M3 sensor mounted in a fixed-wing aircraft. The imagery was collected to support 0.5 foot ground sample distance (GSD) orthoimagery to meet ASPRS Class II horizontal accuracy specifications at 1"=100' map scale. The 6-inch pixel orthoimagery was produced to meet or exceed a horizontal accuracy of 1.4 feet RMSE according to ASPRS Positional Accuracy Standards for Digital Geospatial Data, 2014. Resultant orthoimagery was rectified to a DEM surface created from existing LiDAR data. Orthoimagery was delivered in PLSS section GeoTiff and MrSID tiles and a project wide MrSID mosaic. The orthoimagery was delivered according to a quarter-section tile schematic.Not to be used for purposes other than those outlined in the 2023-24 MERC orthoimagery partnership program.", "copyrightText": "", "supportsDynamicLayers": true, "layers": [ { "id": 5, "name": "Image Masking", "parentLayerId": -1, "defaultVisibility": false, "subLayerIds": null, "minScale": 0, "maxScale": 0, "type": "Feature Layer", "geometryType": "esriGeometryPolygon", "supportsDynamicLegends": true }, { "id": 6, "name": "Mower_Co_2023.sid", "parentLayerId": -1, "defaultVisibility": true, "subLayerIds": null, "minScale": 0, "maxScale": 0, "type": "Raster Layer", "supportsDynamicLegends": true } ], "tables": [], "spatialReference": { "wkid": 102100, "latestWkid": 3857, "xyTolerance": 0.001, "zTolerance": 0.001, "mTolerance": 0.001, "falseX": -20037700, "falseY": -30241100, "xyUnits": 10000, "falseZ": -100000, "zUnits": 10000, "falseM": -100000, "mUnits": 10000 }, "singleFusedMapCache": true, "tileInfo": { "rows": 256, "cols": 256, "dpi": 96, "format": "Mixed", "compressionQuality": 75, "origin": { "x": -2.0037508342787E7, "y": 2.0037508342787E7 }, "spatialReference": { "wkid": 102100, "latestWkid": 3857, "xyTolerance": 0.001, "zTolerance": 0.001, "mTolerance": 0.001, "falseX": -20037700, "falseY": -30241100, "xyUnits": 1.4892314192838538E8, "falseZ": -100000, "zUnits": 10000, "falseM": -100000, "mUnits": 10000 }, "lods": [ { "level": 0, "resolution": 156543.033928, "scale": 5.91657527591555E8 }, { "level": 1, "resolution": 78271.5169639999, "scale": 2.95828763795777E8 }, { "level": 2, "resolution": 39135.7584820001, "scale": 1.47914381897889E8 }, { "level": 3, "resolution": 19567.8792409999, "scale": 7.3957190948944E7 }, { "level": 4, "resolution": 9783.93962049996, "scale": 3.6978595474472E7 }, { "level": 5, "resolution": 4891.96981024998, "scale": 1.8489297737236E7 }, { "level": 6, "resolution": 2445.98490512499, "scale": 9244648.868618 }, { "level": 7, "resolution": 1222.99245256249, "scale": 4622324.434309 }, { "level": 8, "resolution": 611.49622628138, "scale": 2311162.217155 }, { "level": 9, "resolution": 305.748113140558, "scale": 1155581.108577 }, { "level": 10, "resolution": 152.874056570411, "scale": 577790.554289 }, { "level": 11, "resolution": 76.4370282850732, "scale": 288895.277144 }, { "level": 12, "resolution": 38.2185141425366, "scale": 144447.638572 }, { "level": 13, "resolution": 19.1092570712683, "scale": 72223.819286 }, { "level": 14, "resolution": 9.55462853563415, "scale": 36111.909643 }, { "level": 15, "resolution": 4.77731426794937, "scale": 18055.954822 }, { "level": 16, "resolution": 2.38865713397468, "scale": 9027.977411 }, { "level": 17, "resolution": 1.19432856685505, "scale": 4513.988705 }, { "level": 18, "resolution": 0.597164283559817, "scale": 2256.994353 }, { "level": 19, "resolution": 0.298582141647617, "scale": 1128.497176 }, { "level": 20, "resolution": 0.14929107082380833, "scale": 564.248588 }, { "level": 21, "resolution": 0.07464553541190416, "scale": 282.124294 }, { "level": 22, "resolution": 0.03732276770595208, "scale": 141.062147 }, { "level": 23, "resolution": 0.01866138385297604, "scale": 70.5310735 } ] }, "storageInfo": { "storageFormat": "esriMapCacheStorageModeCompactV2", "packetSize": 128 }, "initialExtent": { "xmin": -1.0362470677963309E7, "ymin": 5438296.243807109, "xmax": -1.0349646863920674E7, "ymax": 5443247.872300575, "spatialReference": { "cs": "pcs", "wkid": 102100 } }, "fullExtent": { "xmin": -1.037736004833718E7, "ymin": 5378774.431810349, "xmax": -1.0277302667783016E7, "ymax": 5451877.275143593, "spatialReference": { "cs": "pcs", "wkid": 102100 } }, "datesInUnknownTimezone": false, "minScale": 1155581.108577, "maxScale": 282.124294, "minLOD": 9, "maxLOD": 21, "units": "esriMeters", "supportedImageFormatTypes": "PNG32,PNG24,PNG,JPG,DIB,TIFF,EMF,PS,PDF,GIF,SVG,SVGZ,BMP", "documentInfo": { "Title": "Map2", "Author": "", "Comments": "", "Subject": "", "Category": "", "Version": "3.5.0", "AntialiasingMode": "Fast", "TextAntialiasingMode": "Force", "Keywords": "digital,4-band,orthoimagery,6-inch,Imagery" }, "supportsQueryDomains": true, "capabilities": "Map,Query,Data", "supportedQueryFormats": "JSON, geoJSON, PBF", "exportTilesAllowed": false, "referenceScale": 0.0, "supportsDatumTransformation": true, "archivingInfo": {"supportsHistoricMoment": false}, "supportsClipping": true, "supportsSpatialFilter": true, "supportsTimeRelation": true, "supportsQueryDataElements": true, "mapUnits": {"uwkid": 9001}, "maxSelectionCount": 2000, "maxRecordCount": 2000, "maxImageHeight": 4096, "maxImageWidth": 4096, "supportedExtensions": "WMSServer", "resampling": false, "serviceItemId": "39ca5cdae30d4197be4dfb7957c20953" }